Package: biobtreeR Version: 1.19.0 Command: /home/biocbuild/R/R/bin/R CMD INSTALL biobtreeR StartedAt: 2025-01-29 19:36:23 -0000 (Wed, 29 Jan 2025) EndedAt: 2025-01-29 19:36:46 -0000 (Wed, 29 Jan 2025) EllapsedTime: 22.8 seconds RetCode: 0 Status: OK