Package: biobtreeR Version: 1.19.0 Command: rm -rf biobtreeR.buildbin-libdir && mkdir biobtreeR.buildbin-libdir && /Users/biocbuild/BBS/utils/build-universal.sh biobtreeR_1.19.0.tar.gz /Library/Frameworks/R.framework/Resources/bin/R biobtreeR.buildbin-libdir StartedAt: 2025-02-13 00:26:54 -0500 (Thu, 13 Feb 2025) EndedAt: 2025-02-13 00:27:00 -0500 (Thu, 13 Feb 2025) EllapsedTime: 5.8 seconds RetCode: 0 Status: OK PackageFile: biobtreeR_1.19.0.tgz PackageFileSize: 979.5 KiB