Package: biobtreeR Version: 1.19.0 Command: /home/biocbuild/bbs-3.21-bioc/R/bin/R CMD build --keep-empty-dirs --no-resave-data biobtreeR StartedAt: 2025-02-09 16:21:17 -0500 (Sun, 09 Feb 2025) EndedAt: 2025-02-09 16:22:12 -0500 (Sun, 09 Feb 2025) EllapsedTime: 55.1 seconds RetCode: 0 Status: OK PackageFile: biobtreeR_1.19.0.tar.gz PackageFileSize: 938.4 KiB