Package: biobtreeR Version: 1.19.0 Command: /home/biocbuild/bbs-3.21-bioc/R/bin/R CMD check --install=check:biobtreeR.install-out.txt --library=/home/biocbuild/bbs-3.21-bioc/R/site-library --timings biobtreeR_1.19.0.tar.gz StartedAt: 2025-02-09 20:22:15 -0500 (Sun, 09 Feb 2025) EndedAt: 2025-02-09 20:23:29 -0500 (Sun, 09 Feb 2025) EllapsedTime: 74.1 seconds RetCode: 0 Status: OK CheckDir: biobtreeR.Rcheck Warnings: 0