Package: biobtreeR Version: 1.19.0 Command: E:\biocbuild\bbs-3.21-bioc\R\bin\R.exe CMD INSTALL biobtreeR StartedAt: 2025-02-09 15:29:43 -0500 (Sun, 09 Feb 2025) EndedAt: 2025-02-09 15:30:03 -0500 (Sun, 09 Feb 2025) EllapsedTime: 19.8 seconds RetCode: 0 Status: OK