Back to Multiple platform build/check report for BioC 3.21:   simplified   long
A[B]CDEFGHIJKLMNOPQRSTUVWXYZ

This page was generated on 2025-02-05 11:38 -0500 (Wed, 05 Feb 2025).

HostnameOSArch (*)R versionInstalled pkgs
nebbiolo1Linux (Ubuntu 24.04.1 LTS)x86_64R Under development (unstable) (2025-01-20 r87609) -- "Unsuffered Consequences" 4717
palomino7Windows Server 2022 Datacenterx64R Under development (unstable) (2025-01-21 r87610 ucrt) -- "Unsuffered Consequences" 4478
lconwaymacOS 12.7.1 Montereyx86_64R Under development (unstable) (2025-01-22 r87618) -- "Unsuffered Consequences" 4489
kjohnson3macOS 13.7.1 Venturaarm64R Under development (unstable) (2025-01-20 r87609) -- "Unsuffered Consequences" 4442
Click on any hostname to see more info about the system (e.g. compilers)      (*) as reported by 'uname -p', except on Windows and Mac OS X

All results for package biocViews


To the developers/maintainers of the biocViews package:
- Allow up to 24 hours (and sometimes 48 hours) for your latest push to git@git.bioconductor.org:packages/biocViews.git to reflect on this report. See Troubleshooting Build Report for more information.
- Use the following Renviron settings to reproduce errors and warnings.
- If 'R CMD check' started to fail recently on the Linux builder(s) over a missing dependency, add the missing dependency to 'Suggests:' in your DESCRIPTION file. See Renviron.bioc for more information.

raw results

Package 199/2295HostnameOS / ArchINSTALLBUILDCHECKBUILD BIN
biocViews 1.75.0  (landing page)
Bioconductor Package Maintainer
Snapshot Date: 2025-02-04 13:40 -0500 (Tue, 04 Feb 2025)
git_url: https://git.bioconductor.org/packages/biocViews
git_branch: devel
git_last_commit: 8aa6daf
git_last_commit_date: 2024-10-29 09:25:07 -0500 (Tue, 29 Oct 2024)
nebbiolo1Linux (Ubuntu 24.04.1 LTS) / x86_64  OK    OK    OK  UNNEEDED, same version is already published
palomino7Windows Server 2022 Datacenter / x64  OK    OK    OK    OK  UNNEEDED, same version is already published
lconwaymacOS 12.7.1 Monterey / x86_64  OK    OK    OK    OK  UNNEEDED, same version is already published
kjohnson3macOS 13.7.1 Ventura / arm64  OK    OK    OK    OK  UNNEEDED, same version is already published



Results for Bioconductor software packages that depend directly on package biocViews

QUICK STATSOS / ArchINSTALLBUILDCHECKBUILD BIN
nebbiolo1Linux (Ubuntu 24.04.1 LTS) / x86_64
006
006
0024
palomino7Windows Server 2022 Datacenter / x64
006
006
0024
006
lconwaymacOS 12.7.1 Monterey / x86_64
006
006
0024
006
kjohnson3macOS 13.7.1 Ventura / arm64
006
006
0024
006
Package 1/6HostnameOS / ArchINSTALLBUILDCHECKBUILD BIN
AnnotationHubData 1.37.0  (landing page)
Bioconductor Package Maintainer
git_last_commit: 1e4d239
git_last_commit_date: 2024-10-29 10:03:33 -0500
nebbiolo1Linux (Ubuntu 24.04.1 LTS) / x86_64  OK    OK    WARNINGS  UNNEEDED, same version is already published
palomino7Windows Server 2022 Datacenter / x64  OK    OK    WARNINGS    OK  UNNEEDED, same version is already published
lconwaymacOS 12.7.1 Monterey / x86_64  OK    OK    WARNINGS    OK  NO, package depends on 'rtracklayer' which is only available as a source package that needs compilation
kjohnson3macOS 13.7.1 Ventura / arm64  OK    OK    WARNINGS    OK  NO, package depends on 'rtracklayer' which is only available as a source package that needs compilation
Package 2/6HostnameOS / ArchINSTALLBUILDCHECKBUILD BIN
BiocCheck 1.43.4  (landing page)
Marcel Ramos
git_last_commit: 06df076
git_last_commit_date: 2025-02-03 12:42:50 -0500
nebbiolo1Linux (Ubuntu 24.04.1 LTS) / x86_64  OK    OK    OK  UNNEEDED, same version is already published
palomino7Windows Server 2022 Datacenter / x64  OK    OK    OK    OK  UNNEEDED, same version is already published
lconwaymacOS 12.7.1 Monterey / x86_64  OK    OK    OK    OK  UNNEEDED, same version is already published
kjohnson3macOS 13.7.1 Ventura / arm64  OK    OK    OK    OK  UNNEEDED, same version is already published
Package 3/6HostnameOS / ArchINSTALLBUILDCHECKBUILD BIN
BiocPkgTools 1.25.2  (landing page)
Sean Davis
git_last_commit: 19ff678
git_last_commit_date: 2024-11-01 19:43:38 -0500
nebbiolo1Linux (Ubuntu 24.04.1 LTS) / x86_64  OK    OK    OK  UNNEEDED, same version is already published
palomino7Windows Server 2022 Datacenter / x64  OK    OK    OK    OK  UNNEEDED, same version is already published
lconwaymacOS 12.7.1 Monterey / x86_64  OK    OK    OK    OK  UNNEEDED, same version is already published
kjohnson3macOS 13.7.1 Ventura / arm64  OK    OK    OK    OK  UNNEEDED, same version is already published
Package 4/6HostnameOS / ArchINSTALLBUILDCHECKBUILD BIN
BioGA 1.1.0  (landing page)
Dany Mukesha
git_last_commit: 7656c41
git_last_commit_date: 2024-10-29 11:32:02 -0500
nebbiolo1Linux (Ubuntu 24.04.1 LTS) / x86_64  OK    OK    OK  UNNEEDED, same version is already published
palomino7Windows Server 2022 Datacenter / x64  OK    OK    OK    OK  UNNEEDED, same version is already published
lconwaymacOS 12.7.1 Monterey / x86_64  OK    OK    OK    OK  UNNEEDED, same version is already published
kjohnson3macOS 13.7.1 Ventura / arm64  OK    OK    OK    OK  UNNEEDED, same version is already published
Package 5/6HostnameOS / ArchINSTALLBUILDCHECKBUILD BIN
monocle 2.35.0  (landing page)
Cole Trapnell
git_last_commit: f50c2db
git_last_commit_date: 2024-10-29 09:52:19 -0500
nebbiolo1Linux (Ubuntu 24.04.1 LTS) / x86_64  OK    OK    OK  UNNEEDED, same version is already published
palomino7Windows Server 2022 Datacenter / x64  OK    OK    OK    OK  UNNEEDED, same version is already published
lconwaymacOS 12.7.1 Monterey / x86_64  OK    OK    OK    OK  UNNEEDED, same version is already published
kjohnson3macOS 13.7.1 Ventura / arm64  OK    OK    OK    OK  UNNEEDED, same version is already published
Package 6/6HostnameOS / ArchINSTALLBUILDCHECKBUILD BIN
sigFeature 1.25.0  (landing page)
Pijush Das Developer
git_last_commit: ac23f1c
git_last_commit_date: 2024-10-29 10:28:50 -0500
nebbiolo1Linux (Ubuntu 24.04.1 LTS) / x86_64  OK    OK    WARNINGS  UNNEEDED, same version is already published
palomino7Windows Server 2022 Datacenter / x64  OK    OK    WARNINGS    OK  UNNEEDED, same version is already published
lconwaymacOS 12.7.1 Monterey / x86_64  OK    OK    WARNINGS    OK  UNNEEDED, same version is already published
kjohnson3macOS 13.7.1 Ventura / arm64  OK    OK    WARNINGS    OK  UNNEEDED, same version is already published