Package: biocViews Version: 1.75.0 Command: /Library/Frameworks/R.framework/Resources/bin/R CMD build --keep-empty-dirs --no-resave-data biocViews StartedAt: 2025-02-04 15:41:41 -0500 (Tue, 04 Feb 2025) EndedAt: 2025-02-04 15:41:47 -0500 (Tue, 04 Feb 2025) EllapsedTime: 6.1 seconds RetCode: 0 Status: OK PackageFile: biocViews_1.75.0.tar.gz PackageFileSize: 506.9 KiB