Package: biocViews Version: 1.75.0 Command: /home/biocbuild/R/R/bin/R CMD build --keep-empty-dirs --no-resave-data biocViews StartedAt: 2025-01-29 21:15:51 -0000 (Wed, 29 Jan 2025) EndedAt: 2025-01-29 21:16:13 -0000 (Wed, 29 Jan 2025) EllapsedTime: 22.0 seconds RetCode: 0 Status: OK PackageFile: biocViews_1.75.0.tar.gz PackageFileSize: 556.3 KiB