Package: biocViews Version: 1.75.0 Command: /home/biocbuild/R/R/bin/R CMD INSTALL biocViews StartedAt: 2025-01-29 19:35:47 -0000 (Wed, 29 Jan 2025) EndedAt: 2025-01-29 19:36:10 -0000 (Wed, 29 Jan 2025) EllapsedTime: 22.7 seconds RetCode: 0 Status: OK