Package: biocViews Version: 1.75.0 Command: /Library/Frameworks/R.framework/Resources/bin/R CMD check --install=check:biocViews.install-out.txt --library=/Library/Frameworks/R.framework/Resources/library --no-vignettes --timings biocViews_1.75.0.tar.gz StartedAt: 2025-02-04 19:10:30 -0500 (Tue, 04 Feb 2025) EndedAt: 2025-02-04 19:11:34 -0500 (Tue, 04 Feb 2025) EllapsedTime: 64.3 seconds RetCode: 0 Status: OK CheckDir: biocViews.Rcheck Warnings: 0