Package: biocViews Version: 1.75.0 Command: /home/biocbuild/bbs-3.21-bioc/R/bin/R CMD build --keep-empty-dirs --no-resave-data biocViews StartedAt: 2025-02-09 16:23:12 -0500 (Sun, 09 Feb 2025) EndedAt: 2025-02-09 16:23:27 -0500 (Sun, 09 Feb 2025) EllapsedTime: 15.0 seconds RetCode: 0 Status: OK PackageFile: biocViews_1.75.0.tar.gz PackageFileSize: 506.9 KiB