Package: biocViews Version: 1.75.0 Command: /home/biocbuild/bbs-3.21-bioc/R/bin/R CMD check --install=check:biocViews.install-out.txt --library=/home/biocbuild/bbs-3.21-bioc/R/site-library --timings biocViews_1.75.0.tar.gz StartedAt: 2025-02-09 20:25:17 -0500 (Sun, 09 Feb 2025) EndedAt: 2025-02-09 20:26:30 -0500 (Sun, 09 Feb 2025) EllapsedTime: 73.2 seconds RetCode: 0 Status: OK CheckDir: biocViews.Rcheck Warnings: 0