Package: biocViews Version: 1.75.0 Command: chmod a+r biocViews -R && E:\biocbuild\bbs-3.21-bioc\R\bin\R.exe CMD build --keep-empty-dirs --no-resave-data biocViews StartedAt: 2025-02-04 17:27:50 -0500 (Tue, 04 Feb 2025) EndedAt: 2025-02-04 17:28:44 -0500 (Tue, 04 Feb 2025) EllapsedTime: 54.3 seconds RetCode: 0 Status: OK PackageFile: biocViews_1.75.0.tar.gz PackageFileSize: 507.1 KiB