Package: biocViews Version: 1.75.0 Command: E:\biocbuild\bbs-3.21-bioc\R\bin\R.exe CMD check --no-multiarch --install=check:biocViews.install-out.txt --library=E:\biocbuild\bbs-3.21-bioc\R\library --no-vignettes --timings biocViews_1.75.0.tar.gz StartedAt: 2025-02-04 23:27:14 -0500 (Tue, 04 Feb 2025) EndedAt: 2025-02-04 23:30:29 -0500 (Tue, 04 Feb 2025) EllapsedTime: 195.2 seconds RetCode: 0 Status: OK CheckDir: biocViews.Rcheck Warnings: 0