Package: biocViews Version: 1.75.0 Command: E:\biocbuild\bbs-3.21-bioc\R\bin\R.exe CMD INSTALL biocViews StartedAt: 2025-02-04 15:31:04 -0500 (Tue, 04 Feb 2025) EndedAt: 2025-02-04 15:31:42 -0500 (Tue, 04 Feb 2025) EllapsedTime: 38.5 seconds RetCode: 0 Status: OK