Package: biocmake Version: 0.99.0 Maintainer: Aaron Lun MaintainerEmail: infinite.monkeys.with.keyboards at gmail.com git_url: https://git.bioconductor.org/packages/biocmake git_branch: devel git_last_commit: 8ab06a5 git_last_commit_date: 2025-01-30 12:40:57 -0500 (Thu, 30 Jan 2025)