Package: biocmake Version: 0.99.0 Command: /home/biocbuild/bbs-3.21-bioc/R/bin/R CMD build --keep-empty-dirs --no-resave-data biocmake StartedAt: 2025-02-09 16:22:16 -0500 (Sun, 09 Feb 2025) EndedAt: 2025-02-09 16:22:21 -0500 (Sun, 09 Feb 2025) EllapsedTime: 5.0 seconds RetCode: 0 Status: OK PackageFile: biocmake_0.99.0.tar.gz PackageFileSize: 222.5 KiB