Package: biocmake Version: 0.99.0 Command: /home/biocbuild/bbs-3.21-bioc/R/bin/R CMD INSTALL biocmake StartedAt: 2025-02-09 15:05:25 -0500 (Sun, 09 Feb 2025) EndedAt: 2025-02-09 15:05:40 -0500 (Sun, 09 Feb 2025) EllapsedTime: 15.1 seconds RetCode: 0 Status: OK