############################################################################## ############################################################################## ### ### Running command: ### ### rm -rf biocmake.buildbin-libdir && mkdir biocmake.buildbin-libdir && E:\biocbuild\bbs-3.21-bioc\R\bin\R.exe CMD INSTALL --build --library=biocmake.buildbin-libdir biocmake_0.99.0.tar.gz ### ############################################################################## ############################################################################## * installing *source* package 'biocmake' ... ** this is package 'biocmake' version '0.99.0' ** using staged installation ** R ** inst ** byte-compile and prepare package for lazy loading ** help *** installing help indices ** building package indices ** installing vignettes ** testing if installed package can be loaded from temporary location ** testing if installed package can be loaded from final location ** testing if installed package keeps a record of temporary installation path * MD5 sums packaged installation of 'biocmake' as biocmake_0.99.0.zip * DONE (biocmake)