Package: biocmake Version: 0.99.0 Command: chmod a+r biocmake -R && E:\biocbuild\bbs-3.21-bioc\R\bin\R.exe CMD build --keep-empty-dirs --no-resave-data biocmake StartedAt: 2025-02-09 17:28:50 -0500 (Sun, 09 Feb 2025) EndedAt: 2025-02-09 17:29:24 -0500 (Sun, 09 Feb 2025) EllapsedTime: 33.9 seconds RetCode: 0 Status: OK PackageFile: biocmake_0.99.0.tar.gz PackageFileSize: 222.7 KiB