Package: biocmake Version: 0.99.0 Command: E:\biocbuild\bbs-3.21-bioc\R\bin\R.exe CMD check --no-multiarch --install=check:biocmake.install-out.txt --library=E:\biocbuild\bbs-3.21-bioc\R\library --no-vignettes --timings biocmake_0.99.0.tar.gz StartedAt: 2025-02-09 23:00:25 -0500 (Sun, 09 Feb 2025) EndedAt: 2025-02-09 23:01:34 -0500 (Sun, 09 Feb 2025) EllapsedTime: 68.7 seconds RetCode: 0 Status: OK CheckDir: biocmake.Rcheck Warnings: 0