Package: biocroxytest Version: 1.3.0 Command: rm -rf biocroxytest.buildbin-libdir && mkdir biocroxytest.buildbin-libdir && /Users/biocbuild/BBS/utils/build-universal.sh biocroxytest_1.3.0.tar.gz /Library/Frameworks/R.framework/Resources/bin/R biocroxytest.buildbin-libdir StartedAt: 2025-02-09 22:07:21 -0500 (Sun, 09 Feb 2025) EndedAt: 2025-02-09 22:07:23 -0500 (Sun, 09 Feb 2025) EllapsedTime: 2.0 seconds RetCode: 0 Status: OK PackageFile: biocroxytest_1.3.0.tgz PackageFileSize: 143.9 KiB