Package: biocroxytest Version: 1.3.0 Command: /Library/Frameworks/R.framework/Resources/bin/R CMD build --keep-empty-dirs --no-resave-data biocroxytest StartedAt: 2025-02-09 15:40:48 -0500 (Sun, 09 Feb 2025) EndedAt: 2025-02-09 15:40:51 -0500 (Sun, 09 Feb 2025) EllapsedTime: 3.0 seconds RetCode: 0 Status: OK PackageFile: biocroxytest_1.3.0.tar.gz PackageFileSize: 2.493 MiB