Package: biocroxytest Version: 1.3.0 Command: /home/biocbuild/R/R/bin/R CMD build --keep-empty-dirs --no-resave-data biocroxytest StartedAt: 2025-01-29 21:14:28 -0000 (Wed, 29 Jan 2025) EndedAt: 2025-01-29 21:14:36 -0000 (Wed, 29 Jan 2025) EllapsedTime: 8.0 seconds RetCode: 0 Status: OK PackageFile: biocroxytest_1.3.0.tar.gz PackageFileSize: 2.494 MiB