Package: biocroxytest Version: 1.3.0 Command: /Library/Frameworks/R.framework/Resources/bin/R CMD INSTALL biocroxytest StartedAt: 2025-02-09 15:07:27 -0500 (Sun, 09 Feb 2025) EndedAt: 2025-02-09 15:08:03 -0500 (Sun, 09 Feb 2025) EllapsedTime: 35.8 seconds RetCode: 0 Status: OK