Package: biocroxytest Version: 1.3.0 Command: rm -rf biocroxytest.buildbin-libdir && mkdir biocroxytest.buildbin-libdir && E:\biocbuild\bbs-3.21-bioc\R\bin\R.exe CMD INSTALL --build --library=biocroxytest.buildbin-libdir biocroxytest_1.3.0.tar.gz StartedAt: 2025-02-10 07:18:08 -0500 (Mon, 10 Feb 2025) EndedAt: 2025-02-10 07:18:32 -0500 (Mon, 10 Feb 2025) EllapsedTime: 23.4 seconds RetCode: 0 Status: OK PackageFile: biocroxytest_1.3.0.zip PackageFileSize: 147.8 KiB