Package: biocroxytest Version: 1.3.0 Command: E:\biocbuild\bbs-3.21-bioc\R\bin\R.exe CMD INSTALL biocroxytest StartedAt: 2025-02-09 15:28:01 -0500 (Sun, 09 Feb 2025) EndedAt: 2025-02-09 15:28:28 -0500 (Sun, 09 Feb 2025) EllapsedTime: 27.6 seconds RetCode: 0 Status: OK