Package: biodbChebi Version: 1.13.0 Maintainer: Pierrick Roger MaintainerEmail: pierrick.roger at cea.fr git_url: https://git.bioconductor.org/packages/biodbChebi git_branch: devel git_last_commit: 686a27c git_last_commit_date: 2024-10-29 11:04:36 -0500 (Tue, 29 Oct 2024)