Package: biodbChebi Version: 1.13.0 Command: rm -rf biodbChebi.buildbin-libdir && mkdir biodbChebi.buildbin-libdir && /Users/biocbuild/BBS/utils/build-universal.sh biodbChebi_1.13.0.tar.gz /Library/Frameworks/R.framework/Resources/bin/R biodbChebi.buildbin-libdir StartedAt: 2025-02-09 22:07:29 -0500 (Sun, 09 Feb 2025) EndedAt: 2025-02-09 22:07:33 -0500 (Sun, 09 Feb 2025) EllapsedTime: 4.1 seconds RetCode: 0 Status: OK PackageFile: biodbChebi_1.13.0.tgz PackageFileSize: 402.8 KiB