Package: biodbChebi Version: 1.13.0 Command: /Library/Frameworks/R.framework/Resources/bin/R CMD check --install=check:biodbChebi.install-out.txt --library=/Library/Frameworks/R.framework/Resources/library --no-vignettes --timings biodbChebi_1.13.0.tar.gz StartedAt: 2025-02-09 18:16:47 -0500 (Sun, 09 Feb 2025) EndedAt: 2025-02-09 18:17:55 -0500 (Sun, 09 Feb 2025) EllapsedTime: 67.8 seconds RetCode: 0 Status: OK CheckDir: biodbChebi.Rcheck Warnings: 0