Package: biodbChebi Version: 1.13.0 Command: /Library/Frameworks/R.framework/Resources/bin/R CMD INSTALL biodbChebi StartedAt: 2025-02-09 15:19:09 -0500 (Sun, 09 Feb 2025) EndedAt: 2025-02-09 15:19:12 -0500 (Sun, 09 Feb 2025) EllapsedTime: 3.2 seconds RetCode: 0 Status: OK