Package: biodbChebi Version: 1.13.0 Command: /home/biocbuild/R/R/bin/R CMD build --keep-empty-dirs --no-resave-data biodbChebi StartedAt: 2025-01-29 21:16:13 -0000 (Wed, 29 Jan 2025) EndedAt: 2025-01-29 21:16:18 -0000 (Wed, 29 Jan 2025) EllapsedTime: 5.0 seconds RetCode: 1 Status: ERROR PackageFile: None PackageFileSize: NA