Package: biodbChebi Version: 1.13.0 Command: /Library/Frameworks/R.framework/Resources/bin/R CMD build --keep-empty-dirs --no-resave-data biodbChebi StartedAt: 2025-02-09 16:03:30 -0500 (Sun, 09 Feb 2025) EndedAt: 2025-02-09 16:04:09 -0500 (Sun, 09 Feb 2025) EllapsedTime: 38.8 seconds RetCode: 0 Status: OK PackageFile: biodbChebi_1.13.0.tar.gz PackageFileSize: 312.1 KiB