Package: biodbChebi Version: 1.13.0 Command: rm -rf biodbChebi.buildbin-libdir && mkdir biodbChebi.buildbin-libdir && E:\biocbuild\bbs-3.21-bioc\R\bin\R.exe CMD INSTALL --build --library=biodbChebi.buildbin-libdir biodbChebi_1.13.0.tar.gz StartedAt: 2025-02-10 07:18:47 -0500 (Mon, 10 Feb 2025) EndedAt: 2025-02-10 07:19:05 -0500 (Mon, 10 Feb 2025) EllapsedTime: 17.2 seconds RetCode: 0 Status: OK PackageFile: biodbChebi_1.13.0.zip PackageFileSize: 409.7 KiB