Package: biodbChebi Version: 1.13.0 Command: chmod a+r biodbChebi -R && E:\biocbuild\bbs-3.21-bioc\R\bin\R.exe CMD build --keep-empty-dirs --no-resave-data biodbChebi StartedAt: 2025-02-09 17:30:19 -0500 (Sun, 09 Feb 2025) EndedAt: 2025-02-09 17:31:12 -0500 (Sun, 09 Feb 2025) EllapsedTime: 52.5 seconds RetCode: 0 Status: OK PackageFile: biodbChebi_1.13.0.tar.gz PackageFileSize: 312.3 KiB