Package: biodbChebi Version: 1.13.0 Command: E:\biocbuild\bbs-3.21-bioc\R\bin\R.exe CMD INSTALL biodbChebi StartedAt: 2025-02-09 15:59:32 -0500 (Sun, 09 Feb 2025) EndedAt: 2025-02-09 15:59:47 -0500 (Sun, 09 Feb 2025) EllapsedTime: 14.5 seconds RetCode: 0 Status: OK