Package: biodbNcbi Version: 1.11.0 Command: rm -rf biodbNcbi.buildbin-libdir && mkdir biodbNcbi.buildbin-libdir && /Users/biocbuild/BBS/utils/build-universal.sh biodbNcbi_1.11.0.tar.gz /Library/Frameworks/R.framework/Resources/bin/R biodbNcbi.buildbin-libdir StartedAt: 2025-02-12 22:12:29 -0500 (Wed, 12 Feb 2025) EndedAt: 2025-02-12 22:12:34 -0500 (Wed, 12 Feb 2025) EllapsedTime: 5.1 seconds RetCode: 0 Status: OK PackageFile: biodbNcbi_1.11.0.tgz PackageFileSize: 1.153 MiB