Package: biodbNcbi Version: 1.11.0 Command: /Library/Frameworks/R.framework/Resources/bin/R CMD build --keep-empty-dirs --no-resave-data biodbNcbi StartedAt: 2025-02-09 15:41:48 -0500 (Sun, 09 Feb 2025) EndedAt: 2025-02-09 15:41:56 -0500 (Sun, 09 Feb 2025) EllapsedTime: 8.1 seconds RetCode: 0 Status: OK PackageFile: biodbNcbi_1.11.0.tar.gz PackageFileSize: 733.4 KiB