Package: biodbNcbi Version: 1.11.0 Command: /Library/Frameworks/R.framework/Resources/bin/R CMD INSTALL biodbNcbi StartedAt: 2025-02-09 15:19:13 -0500 (Sun, 09 Feb 2025) EndedAt: 2025-02-09 15:19:17 -0500 (Sun, 09 Feb 2025) EllapsedTime: 4.1 seconds RetCode: 0 Status: OK