Package: biodbNcbi Version: 1.11.0 Command: /home/biocbuild/R/R/bin/R CMD build --keep-empty-dirs --no-resave-data biodbNcbi StartedAt: 2025-01-28 21:17:24 -0000 (Tue, 28 Jan 2025) EndedAt: 2025-01-28 21:18:17 -0000 (Tue, 28 Jan 2025) EllapsedTime: 53.0 seconds RetCode: 0 Status: OK PackageFile: biodbNcbi_1.11.0.tar.gz PackageFileSize: 800.3 KiB