Package: biodbNcbi Version: 1.11.0 Command: rm -rf biodbNcbi.buildbin-libdir && mkdir biodbNcbi.buildbin-libdir && /Users/biocbuild/BBS/utils/build-universal.sh biodbNcbi_1.11.0.tar.gz /Library/Frameworks/R.framework/Resources/bin/R biodbNcbi.buildbin-libdir StartedAt: 2025-02-10 00:43:59 -0500 (Mon, 10 Feb 2025) EndedAt: 2025-02-10 00:44:19 -0500 (Mon, 10 Feb 2025) EllapsedTime: 19.8 seconds RetCode: 0 Status: OK PackageFile: biodbNcbi_1.11.0.tgz PackageFileSize: 1.153 MiB