Package: biodbNcbi Version: 1.11.0 Command: /Library/Frameworks/R.framework/Resources/bin/R CMD build --keep-empty-dirs --no-resave-data biodbNcbi StartedAt: 2025-02-12 16:01:42 -0500 (Wed, 12 Feb 2025) EndedAt: 2025-02-12 16:02:04 -0500 (Wed, 12 Feb 2025) EllapsedTime: 22.7 seconds RetCode: 0 Status: OK PackageFile: biodbNcbi_1.11.0.tar.gz PackageFileSize: 733.4 KiB