Package: biodbNcbi Version: 1.11.0 Command: /Library/Frameworks/R.framework/Resources/bin/R CMD check --install=check:biodbNcbi.install-out.txt --library=/Library/Frameworks/R.framework/Resources/library --no-vignettes --timings biodbNcbi_1.11.0.tar.gz StartedAt: 2025-02-09 19:20:48 -0500 (Sun, 09 Feb 2025) EndedAt: 2025-02-09 19:22:59 -0500 (Sun, 09 Feb 2025) EllapsedTime: 131.5 seconds RetCode: 0 Status: OK CheckDir: biodbNcbi.Rcheck Warnings: 0