Package: biodbNcbi Version: 1.11.0 Command: /home/biocbuild/bbs-3.21-bioc/R/bin/R CMD check --install=check:biodbNcbi.install-out.txt --library=/home/biocbuild/bbs-3.21-bioc/R/site-library --timings biodbNcbi_1.11.0.tar.gz StartedAt: 2025-02-09 20:26:09 -0500 (Sun, 09 Feb 2025) EndedAt: 2025-02-09 20:28:03 -0500 (Sun, 09 Feb 2025) EllapsedTime: 114.2 seconds RetCode: 0 Status: OK CheckDir: biodbNcbi.Rcheck Warnings: 0