Package: biodbNcbi Version: 1.11.0 Command: chmod a+r biodbNcbi -R && E:\biocbuild\bbs-3.21-bioc\R\bin\R.exe CMD build --keep-empty-dirs --no-resave-data biodbNcbi StartedAt: 2025-02-09 17:30:29 -0500 (Sun, 09 Feb 2025) EndedAt: 2025-02-09 17:31:20 -0500 (Sun, 09 Feb 2025) EllapsedTime: 50.7 seconds RetCode: 0 Status: OK PackageFile: biodbNcbi_1.11.0.tar.gz PackageFileSize: 733.4 KiB