Package: biodbNcbi Version: 1.11.0 Command: E:\biocbuild\bbs-3.21-bioc\R\bin\R.exe CMD check --no-multiarch --install=check:biodbNcbi.install-out.txt --library=E:\biocbuild\bbs-3.21-bioc\R\library --no-vignettes --timings biodbNcbi_1.11.0.tar.gz StartedAt: 2025-02-09 23:04:31 -0500 (Sun, 09 Feb 2025) EndedAt: 2025-02-09 23:07:36 -0500 (Sun, 09 Feb 2025) EllapsedTime: 185.1 seconds RetCode: 0 Status: OK CheckDir: biodbNcbi.Rcheck Warnings: 0