Package: biodbNcbi Version: 1.11.0 Command: E:\biocbuild\bbs-3.21-bioc\R\bin\R.exe CMD INSTALL biodbNcbi StartedAt: 2025-02-12 16:41:49 -0500 (Wed, 12 Feb 2025) EndedAt: 2025-02-12 16:42:15 -0500 (Wed, 12 Feb 2025) EllapsedTime: 26.2 seconds RetCode: 0 Status: OK