Package: biodbNci Version: 1.11.0 Command: rm -rf biodbNci.buildbin-libdir && mkdir biodbNci.buildbin-libdir && /Users/biocbuild/BBS/utils/build-universal.sh biodbNci_1.11.0.tar.gz /Library/Frameworks/R.framework/Resources/bin/R biodbNci.buildbin-libdir StartedAt: 2025-02-09 22:07:30 -0500 (Sun, 09 Feb 2025) EndedAt: 2025-02-09 22:07:40 -0500 (Sun, 09 Feb 2025) EllapsedTime: 10.2 seconds RetCode: 0 Status: OK PackageFile: biodbNci_1.11.0.tgz PackageFileSize: 589.1 KiB