Package: biodbNci Version: 1.11.0 Command: /Library/Frameworks/R.framework/Resources/bin/R CMD build --keep-empty-dirs --no-resave-data biodbNci StartedAt: 2025-02-09 15:41:53 -0500 (Sun, 09 Feb 2025) EndedAt: 2025-02-09 15:42:06 -0500 (Sun, 09 Feb 2025) EllapsedTime: 13.1 seconds RetCode: 0 Status: OK PackageFile: biodbNci_1.11.0.tar.gz PackageFileSize: 312 KiB