Package: biodbNci Version: 1.11.0 Command: /home/biocbuild/bbs-3.21-bioc/R/bin/R CMD build --keep-empty-dirs --no-resave-data biodbNci StartedAt: 2025-02-12 16:21:28 -0500 (Wed, 12 Feb 2025) EndedAt: 2025-02-12 16:22:04 -0500 (Wed, 12 Feb 2025) EllapsedTime: 36.0 seconds RetCode: 0 Status: OK PackageFile: biodbNci_1.11.0.tar.gz PackageFileSize: 312 KiB